{ "currentVersion": 11.2, "serviceDescription": "
10 cm colour digital ortho-imagery acquired in spring of 2013 by Niagara Region for organizations participating in the 2013 Niagara Ortho-Photography project.<\/SPAN><\/P><\/DIV><\/DIV><\/DIV>",
"name": "Public/NF_Ortho_2013_ImageService",
"description": " 10 cm colour digital ortho-imagery acquired in spring of 2013 by Niagara Region for organizations participating in the 2013 Niagara Ortho-Photography project.<\/SPAN><\/P><\/DIV><\/DIV><\/DIV>",
"extent": {
"xmin": 648000.2745000004,
"ymin": 4756999.0609856825,
"xmax": 663000.2744965077,
"ymax": 4779999.060900001,
"spatialReference": {
"wkid": 2150,
"latestWkid": 2958
}
},
"initialExtent": {
"xmin": 648000.2745000004,
"ymin": 4756999.0609856825,
"xmax": 663000.2744965077,
"ymax": 4779999.060900001,
"spatialReference": {
"wkid": 2150,
"latestWkid": 2958
}
},
"fullExtent": {
"xmin": 648000.2745000004,
"ymin": 4756999.0609856825,
"xmax": 663000.2744965077,
"ymax": 4779999.060900001,
"spatialReference": {
"wkid": 2150,
"latestWkid": 2958
}
},
"sortableFields": "",
"bandCount": 3,
"pixelType": "U8",
"minValues": [
0,
0,
0
],
"maxValues": [
255,
255,
255
],
"meanValues": [
111.25444423655836,
110.44698483703921,
105.14461125734499
],
"stdvValues": [
33.8909513029169,
32.46690915586594,
32.48975349001025
],
"hasMultidimensions": false,
"pixelSizeX": 0.09999999997671538,
"pixelSizeY": 0.09999999962747097,
"meanPixelSize": 0.09999999980209318,
"datasetFormat": "SDR",
"uncompressedSize": 103500000000,
"blockWidth": 128,
"blockHeight": 128,
"compressionType": "JPEG",
"bandNames": [
"Band_1",
"Band_2",
"Band_3"
],
"allowCopy": true,
"allowAnalysis": true,
"itemAccess": false,
"inspectionCapabilities": "",
"minPixelSize": 0,
"maxPixelSize": 0,
"copyrightText": "Niagara Region",
"serviceDataType": "esriImageServiceDataTypeRGB",
"serviceSourceType": "esriImageServiceSourceTypeDataset",
"objectIdField": "",
"fields": [],
"capabilities": "Image,Metadata,Mensuration",
"defaultMosaicMethod": "Center",
"allowedMosaicMethods": "",
"sortField": "",
"sortValue": null,
"sortAscending": true,
"mosaicOperator": "First",
"defaultCompressionQuality": 75,
"defaultResamplingMethod": "Bilinear",
"maxImageHeight": 4100,
"maxImageWidth": 15000,
"allowRasterFunction": true,
"rasterFunctionInfos": [
{
"name": "None",
"description": "",
"help": ""
}
],
"rasterTypeInfos": [
{
"name": "Raster Dataset",
"description": "Supports all ArcGIS Raster Datasets",
"help": ""
}
],
"mensurationCapabilities": "Basic",
"hasHistograms": true,
"hasColormap": false,
"hasRasterAttributeTable": false,
"minScale": 0,
"maxScale": 0,
"exportTilesAllowed": false,
"supportsStatistics": false,
"supportsAdvancedQueries": false,
"editFieldsInfo": null,
"ownershipBasedAccessControlForRasters": null,
"allowComputeTiePoints": false,
"useStandardizedQueries": true,
"advancedQueryCapabilities": {
"useStandardizedQueries": true,
"supportsStatistics": false,
"supportsOrderBy": false,
"supportsDistinct": false,
"supportsPagination": false
},
"spatialReference": {
"wkid": 2150,
"latestWkid": 2958
}
}