<?xml version="1.0" encoding="UTF-8" standalone="no"?>
<metadata xml:lang="en">
<Esri>
<CreaDate>20190722</CreaDate>
<CreaTime>14334600</CreaTime>
<ArcGISFormat>1.0</ArcGISFormat>
<SyncOnce>FALSE</SyncOnce>
<DataProperties>
<itemProps>
<itemName Sync="TRUE">Imagery.GIS.Ortho_2018</itemName>
<imsContentType Sync="FALSE" export="False">004</imsContentType>
<nativeExtBox>
<westBL Sync="TRUE">646999.000000</westBL>
<eastBL Sync="TRUE">664001.000000</eastBL>
<southBL Sync="TRUE">4755999.000000</southBL>
<northBL Sync="TRUE">4781001.000000</northBL>
<exTypeCode Sync="TRUE">1</exTypeCode>
</nativeExtBox>
<itemLocation>
<linkage Sync="TRUE">Server=ARCDB2019; Service=sde:sqlserver:ARCDB2019; Database=Imagery; User=gis; Version=sde.DEFAULT</linkage>
<protocol Sync="TRUE">ArcSDE Connection</protocol>
</itemLocation>
</itemProps>
<coordRef>
<type Sync="TRUE">Projected</type>
<geogcsn Sync="TRUE">GCS_North_American_1983_CSRS</geogcsn>
<csUnits Sync="TRUE">Linear Unit: Meter (1.000000)</csUnits>
<projcsn Sync="TRUE">NAD_1983_CSRS_UTM_Zone_17N</projcsn>
<peXml Sync="TRUE">&lt;ProjectedCoordinateSystem xsi:type='typens:ProjectedCoordinateSystem' xmlns:xsi='http://www.w3.org/2001/XMLSchema-instance' xmlns:xs='http://www.w3.org/2001/XMLSchema' xmlns:typens='http://www.esri.com/schemas/ArcGIS/3.1.0'&gt;&lt;WKT&gt;PROJCS[&amp;quot;NAD_1983_CSRS_UTM_Zone_17N&amp;quot;,GEOGCS[&amp;quot;GCS_North_American_1983_CSRS&amp;quot;,DATUM[&amp;quot;D_North_American_1983_CSRS&amp;quot;,SPHEROID[&amp;quot;GRS_1980&amp;quot;,6378137.0,298.257222101]],PRIMEM[&amp;quot;Greenwich&amp;quot;,0.0],UNIT[&amp;quot;Degree&amp;quot;,0.0174532925199433]],PROJECTION[&amp;quot;Transverse_Mercator&amp;quot;],PARAMETER[&amp;quot;False_Easting&amp;quot;,500000.0],PARAMETER[&amp;quot;False_Northing&amp;quot;,0.0],PARAMETER[&amp;quot;Central_Meridian&amp;quot;,-81.0],PARAMETER[&amp;quot;Scale_Factor&amp;quot;,0.9996],PARAMETER[&amp;quot;Latitude_Of_Origin&amp;quot;,0.0],UNIT[&amp;quot;Meter&amp;quot;,1.0],AUTHORITY[&amp;quot;EPSG&amp;quot;,2958]]&lt;/WKT&gt;&lt;XOrigin&gt;-5120900&lt;/XOrigin&gt;&lt;YOrigin&gt;-9998100&lt;/YOrigin&gt;&lt;XYScale&gt;450445547.3910538&lt;/XYScale&gt;&lt;ZOrigin&gt;-100000&lt;/ZOrigin&gt;&lt;ZScale&gt;10000&lt;/ZScale&gt;&lt;MOrigin&gt;-100000&lt;/MOrigin&gt;&lt;MScale&gt;10000&lt;/MScale&gt;&lt;XYTolerance&gt;0.001&lt;/XYTolerance&gt;&lt;ZTolerance&gt;0.00020000000000000001&lt;/ZTolerance&gt;&lt;MTolerance&gt;0.00020000000000000001&lt;/MTolerance&gt;&lt;HighPrecision&gt;true&lt;/HighPrecision&gt;&lt;WKID&gt;2150&lt;/WKID&gt;&lt;LatestWKID&gt;2958&lt;/LatestWKID&gt;&lt;/ProjectedCoordinateSystem&gt;</peXml>
</coordRef>
<lineage>
<Process Date="20190722" Name="" Time="162231" ToolSource="c:\program files (x86)\arcgis\desktop10.6\ArcToolbox\Toolboxes\Data Management Tools.tbx\CalculateStatistics" export="">CalculateStatistics "C:\Users\pm506\AppData\Roaming\ESRI\Desktop10.6\ArcCatalog\GISPublishing on NFARCDB gis.sde\GISPublishing.GIS.Ortho_2018" 1 1 # OVERWRITE "Feature Set"</Process>
<Process Date="20190723" Name="" Time="085308" ToolSource="c:\program files (x86)\arcgis\desktop10.6\ArcToolbox\Toolboxes\Data Management Tools.tbx\BuildPyramids" export="">BuildPyramids "Database Connections\GISPublishing on NFARCDB gis.sde\GISPublishing.GIS.Ortho_2018" -1 NONE NEAREST DEFAULT 75 OVERWRITE</Process>
<Process Date="20190723" Name="" Time="090229" ToolSource="c:\program files (x86)\arcgis\desktop10.6\ArcToolbox\Toolboxes\Data Management Tools.tbx\BuildPyramids" export="">BuildPyramids "C:\Users\pm506\AppData\Roaming\Esri\Desktop10.6\ArcCatalog\GISPublishing on NFARCDB gis.sde\GISPublishing.GIS.Ortho_2018" 0 NONE NEAREST DEFAULT 75 OVERWRITE</Process>
<Process Date="20190723" Name="" Time="143037" ToolSource="c:\program files (x86)\arcgis\desktop10.6\ArcToolbox\Toolboxes\Data Management Tools.tbx\BuildPyramids" export="">BuildPyramids "C:\Users\pm506\AppData\Roaming\Esri\Desktop10.6\ArcCatalog\GISPublishing on NFARCDB gis.sde\GISPublishing.GIS.Ortho_2018" -1 NONE NEAREST DEFAULT 75 OVERWRITE</Process>
<Process Date="20190723" Name="" Time="174135" ToolSource="c:\program files (x86)\arcgis\desktop10.6\ArcToolbox\Toolboxes\Data Management Tools.tbx\CalculateStatistics" export="">CalculateStatistics "C:\Users\pm506\AppData\Roaming\Esri\Desktop10.6\ArcCatalog\GISPublishing on NFARCDB gis.sde\GISPublishing.GIS.Ortho_2018" 1 1 # OVERWRITE "Feature Set"</Process>
<Process Date="20201214" Name="" Time="205013" ToolSource="c:\program files (x86)\arcgis\desktop10.6\ArcToolbox\Toolboxes\Data Management Tools.tbx\Clip" export="">Clip GISPublishing.GIS.Ortho_2018 "646999.014737477 4755999.06137326 664000.947208594 4781001.00947624" "Database Connections\GISPublishing on NFARCDB gis.sde\GISPublishing.GIS.Ortho_2018_c" Ortho_2018_Boundary # ClippingGeometry NO_MAINTAIN_EXTENT</Process>
<Process Date="20220215" Name="" Time="014306" ToolSource="c:\program files\arcgis\pro\Resources\ArcToolbox\toolboxes\Data Management Tools.tbx\CopyRaster" export="">CopyRaster "C:\Users\pm506\AppData\Roaming\Esri\ArcGISPro\Favorites\GISPublishing on NFARCDB gis.sde\GISPublishing.GIS.Ortho_2018" "C:\Users\pm506\AppData\Roaming\ESRI\ArcGISPro\Favorites\Imagery on NFARCDB2019 gis.sde\Imagery.GIS.Ortho_2018" # # 256 NONE NONE # NONE NONE "Esri Grid format" NONE CURRENT_SLICE NO_TRANSPOSE</Process>
</lineage>
</DataProperties>
<SyncDate>20230607</SyncDate>
<SyncTime>14335600</SyncTime>
<ModDate>20230628</ModDate>
<ModTime>13595800</ModTime>
<scaleRange>
<minScale>500000</minScale>
<maxScale>5000</maxScale>
</scaleRange>
<locales>
<locale country="CA" language="eng"/>
</locales>
<ArcGISProfile>ISO19139</ArcGISProfile>
</Esri>
<dataIdInfo>
<envirDesc Sync="TRUE">Microsoft Windows 10 Version 10.0 (Build 19045) ; Esri ArcGIS 13.1.2.41833</envirDesc>
<dataLang>
<languageCode Sync="TRUE" value="eng"/>
<countryCode Sync="TRUE" value="USA"/>
</dataLang>
<idCitation>
<resTitle Sync="TRUE">NF_Ortho_2018_ImageService</resTitle>
<presForm>
<PresFormCd Sync="FALSE" value="003"/>
<fgdcGeoform>raster digital data</fgdcGeoform>
</presForm>
<date>
<createDate>2018-10-31T00:00:00</createDate>
</date>
<citRespParty>
<editorSource>external</editorSource>
<editorDigest>6166022562b1828c83379679957af6a62cf740bc</editorDigest>
<rpIndName>GIS Services</rpIndName>
<rpOrgName>City of Niagara Falls</rpOrgName>
<rpCntInfo>
<cntAddress addressType="postal">
<delPoint>4343 Morrison St</delPoint>
<city>Niagara Falls</city>
<adminArea>ON</adminArea>
<postCode>L2E 6Z9</postCode>
<eMailAdd>gisrequest@niagarafalls.ca</eMailAdd>
<country>CA</country>
</cntAddress>
</rpCntInfo>
<editorSave>True</editorSave>
<displayName>GIS Services</displayName>
<role>
<RoleCd value="007"/>
</role>
</citRespParty>
</idCitation>
<spatRpType>
<SpatRepTypCd Sync="TRUE" value="002"/>
</spatRpType>
<dataExt>
<geoEle>
<GeoBndBox esriExtentType="search">
<exTypeCode Sync="TRUE">1</exTypeCode>
<westBL Sync="TRUE">-79.198219</westBL>
<eastBL Sync="TRUE">-78.982578</eastBL>
<northBL Sync="TRUE">43.167482</northBL>
<southBL Sync="TRUE">42.938982</southBL>
</GeoBndBox>
</geoEle>
</dataExt>
<idPurp>An Image Service of 10 cm ground pixel resolution colour digital ortho-imagery acquired in spring of 2018 by Niagara Region for organizations participating in the 2018 Niagara Ortho-Photography project.</idPurp>
<idAbs>&lt;DIV STYLE="text-align:Left;"&gt;&lt;DIV&gt;&lt;DIV&gt;&lt;P&gt;&lt;SPAN&gt;10 cm ground pixel resolution colour digital ortho-imagery acquired in spring of 2018 by Niagara Region for organizations participating in the 2018 Niagara Ortho-Photography project. Participants included local area municipalities, utility providers, and educational institutions. Imagery is 3 band, natural colour, 10 cm resolution.&lt;/SPAN&gt;&lt;/P&gt;&lt;/DIV&gt;&lt;/DIV&gt;&lt;/DIV&gt;</idAbs>
<idCredit>Niagara Region</idCredit>
<searchKeys>
<keyword>ortho</keyword>
<keyword>aerial</keyword>
<keyword>imagery</keyword>
<keyword>airphoto</keyword>
<keyword>2018</keyword>
</searchKeys>
<dataChar>
<CharSetCd value="004"/>
</dataChar>
<dataScale>
<scaleDist>
<value uom="m">0.1</value>
</scaleDist>
</dataScale>
<suppInfo>Must use RMN copyright on all exports/prints/services</suppInfo>
<idStatus>
<ProgCd value="001"/>
</idStatus>
<idPoC>
<editorSource>external</editorSource>
<editorDigest>6166022562b1828c83379679957af6a62cf740bc</editorDigest>
<rpIndName>GIS Services</rpIndName>
<rpOrgName>City of Niagara Falls</rpOrgName>
<rpCntInfo>
<cntAddress addressType="postal">
<delPoint>4343 Morrison St</delPoint>
<city>Niagara Falls</city>
<adminArea>ON</adminArea>
<postCode>L2E 6Z9</postCode>
<eMailAdd>gisrequest@niagarafalls.ca</eMailAdd>
<country>CA</country>
</cntAddress>
</rpCntInfo>
<editorSave>True</editorSave>
<displayName>GIS Services</displayName>
<role>
<RoleCd value="007"/>
</role>
</idPoC>
<resMaint>
<maintFreq>
<MaintFreqCd value="011"/>
</maintFreq>
<maintScp>
<ScopeCd value="005"/>
</maintScp>
<maintCont>
<editorSource>external</editorSource>
<editorDigest>6166022562b1828c83379679957af6a62cf740bc</editorDigest>
<rpIndName>GIS Services</rpIndName>
<rpOrgName>City of Niagara Falls</rpOrgName>
<rpCntInfo>
<cntAddress addressType="postal">
<delPoint>4343 Morrison St</delPoint>
<city>Niagara Falls</city>
<adminArea>ON</adminArea>
<postCode>L2E 6Z9</postCode>
<eMailAdd>gisrequest@niagarafalls.ca</eMailAdd>
<country>CA</country>
</cntAddress>
</rpCntInfo>
<editorSave>True</editorSave>
<displayName>GIS Services</displayName>
<role>
<RoleCd value="007"/>
</role>
</maintCont>
</resMaint>
<resConst>
<Consts>
<useLimit>&lt;DIV STYLE="text-align:Left;"&gt;&lt;DIV&gt;&lt;DIV&gt;&lt;P&gt;&lt;SPAN&gt;Open Data&lt;/SPAN&gt;&lt;/P&gt;&lt;/DIV&gt;&lt;/DIV&gt;&lt;/DIV&gt;</useLimit>
</Consts>
</resConst>
<themeKeys>
<keyword>Orthophotography</keyword>
</themeKeys>
<placeKeys>
<keyword>Canada</keyword>
</placeKeys>
<placeKeys>
<keyword>Ontario</keyword>
</placeKeys>
<placeKeys>
<keyword>Niagara Falls</keyword>
</placeKeys>
<tpCat>
<TopicCatCd value="010"/>
</tpCat>
</dataIdInfo>
<mdLang>
<languageCode Sync="TRUE" value="eng"/>
<countryCode Sync="TRUE" value="USA"/>
</mdLang>
<mdChar>
<CharSetCd Sync="TRUE" value="004"/>
</mdChar>
<distInfo>
<distFormat>
<formatName Sync="TRUE">Enterprise Geodatabase Raster Dataset</formatName>
<formatVer>11.0</formatVer>
</distFormat>
<distFormat>
<formatName>GeoTIF</formatName>
<formatVer>latest</formatVer>
</distFormat>
<distFormat>
<formatName>JPEG2000</formatName>
<formatVer>latest</formatVer>
</distFormat>
<distributor>
<distorCont>
<editorSource>external</editorSource>
<editorDigest>6166022562b1828c83379679957af6a62cf740bc</editorDigest>
<rpIndName>GIS Services</rpIndName>
<rpOrgName>City of Niagara Falls</rpOrgName>
<rpCntInfo>
<cntAddress addressType="postal">
<delPoint>4343 Morrison St</delPoint>
<city>Niagara Falls</city>
<adminArea>ON</adminArea>
<postCode>L2E 6Z9</postCode>
<eMailAdd>gisrequest@niagarafalls.ca</eMailAdd>
<country>CA</country>
</cntAddress>
</rpCntInfo>
<editorSave>True</editorSave>
<displayName>GIS Services</displayName>
<role>
<RoleCd value="007"/>
</role>
</distorCont>
</distributor>
</distInfo>
<mdHrLv>
<ScopeCd Sync="TRUE" value="005"/>
</mdHrLv>
<mdHrLvName Sync="TRUE">dataset</mdHrLvName>
<refSysInfo>
<RefSystem dimension="">
<refSysID>
<identCode Sync="TRUE" code="2958"/>
<idCodeSpace Sync="TRUE">EPSG</idCodeSpace>
<idVersion Sync="TRUE">6.11(9.3.0.0)</idVersion>
</refSysID>
</RefSystem>
</refSysInfo>
<spdoinfo>
<rastinfo>
<rasttype Sync="TRUE">Pixel</rasttype>
<rowcount Sync="TRUE">250020</rowcount>
<colcount Sync="TRUE">170020</colcount>
<rastxsz Sync="TRUE">0.100000</rastxsz>
<rastysz Sync="TRUE">0.100000</rastysz>
<rastbpp Sync="TRUE">8</rastbpp>
<vrtcount Sync="TRUE">1</vrtcount>
<rastorig Sync="TRUE">Upper Left</rastorig>
<rastcmap Sync="TRUE">FALSE</rastcmap>
<rastcomp Sync="TRUE">JPEG</rastcomp>
<rastband Sync="TRUE">3</rastband>
<rastdtyp Sync="TRUE">pixel codes</rastdtyp>
<rastifor Sync="TRUE">SDR</rastifor>
<rastplyr Sync="TRUE">TRUE</rastplyr>
</rastinfo>
</spdoinfo>
<spref>
<horizsys>
<planar>
<planci>
<plance Sync="TRUE">row and column</plance>
<coordrep>
<absres Sync="TRUE">0.100000</absres>
<ordres Sync="TRUE">0.100000</ordres>
</coordrep>
</planci>
</planar>
</horizsys>
</spref>
<mdDateSt Sync="TRUE">20230628</mdDateSt>
<mdContact>
<editorSource>external</editorSource>
<editorDigest>6166022562b1828c83379679957af6a62cf740bc</editorDigest>
<rpIndName>GIS Services</rpIndName>
<rpOrgName>City of Niagara Falls</rpOrgName>
<rpCntInfo>
<cntAddress addressType="postal">
<delPoint>4343 Morrison St</delPoint>
<city>Niagara Falls</city>
<adminArea>ON</adminArea>
<postCode>L2E 6Z9</postCode>
<eMailAdd>gisrequest@niagarafalls.ca</eMailAdd>
<country>CA</country>
</cntAddress>
</rpCntInfo>
<editorSave>True</editorSave>
<displayName>GIS Services</displayName>
<role>
<RoleCd value="007"/>
</role>
</mdContact>
<mdMaint>
<maintFreq>
<MaintFreqCd value="011"/>
</maintFreq>
<maintScp>
<ScopeCd value="005"/>
</maintScp>
<maintCont>
<editorSource>external</editorSource>
<editorDigest>6166022562b1828c83379679957af6a62cf740bc</editorDigest>
<rpIndName>GIS Services</rpIndName>
<rpOrgName>City of Niagara Falls</rpOrgName>
<rpCntInfo>
<cntAddress addressType="postal">
<delPoint>4343 Morrison St</delPoint>
<city>Niagara Falls</city>
<adminArea>ON</adminArea>
<postCode>L2E 6Z9</postCode>
<eMailAdd>gisrequest@niagarafalls.ca</eMailAdd>
<country>CA</country>
</cntAddress>
</rpCntInfo>
<editorSave>True</editorSave>
<displayName>GIS Services</displayName>
<role>
<RoleCd value="007"/>
</role>
</maintCont>
</mdMaint>
<spatRepInfo>
<Georect>
<numDims>2</numDims>
<axisDimension type="001">
<dimSize>250020</dimSize>
<dimResol>
<value uom="m">0.1</value>
</dimResol>
</axisDimension>
<cellGeo>
<CellGeoCd value="002"/>
</cellGeo>
<tranParaAv>False</tranParaAv>
<chkPtAv>False</chkPtAv>
<ptInPixel>
<PixOrientCd value="001"/>
</ptInPixel>
<axisDimension type="002">
<dimSize>170020</dimSize>
<dimResol>
<value uom="m">0.1</value>
</dimResol>
</axisDimension>
</Georect>
</spatRepInfo>
<contInfo>
<ImgDesc>
<trianInd>False</trianInd>
<radCalDatAv>False</radCalDatAv>
<camCalInAv>False</camCalInAv>
<filmDistInAv>False</filmDistInAv>
<lensDistInAv>False</lensDistInAv>
<covDim>
<Band>
<seqID>
<aName>1</aName>
</seqID>
<dimDescrp>Band_1</dimDescrp>
<maxVal>255</maxVal>
<minVal>0</minVal>
<bitsPerVal>8</bitsPerVal>
</Band>
</covDim>
<covDim>
<Band>
<seqID>
<aName>2</aName>
</seqID>
<dimDescrp>Band_2</dimDescrp>
<maxVal>255</maxVal>
<minVal>0</minVal>
<bitsPerVal>8</bitsPerVal>
</Band>
</covDim>
<covDim>
<Band>
<seqID>
<aName>3</aName>
</seqID>
<dimDescrp>Band_3</dimDescrp>
<maxVal>255</maxVal>
<minVal>0</minVal>
<bitsPerVal>8</bitsPerVal>
</Band>
</covDim>
</ImgDesc>
</contInfo>
<dqInfo>
<dqScope>
<scpLvl>
<ScopeCd value="005"/>
</scpLvl>
</dqScope>
<dataLineage>
<dataSource type="">
<srcDesc>Niagara Region 2018 Aerial Photography Project</srcDesc>
</dataSource>
</dataLineage>
</dqInfo>
</metadata>
