{
 "currentVersion": 11.2,
 "serviceDescription": "Public/NF_Ortho_2018_ImageService",
 "name": "Public/NF_Ortho_2018_ImageService",
 "description": "",
 "extent": {
  "xmin": 646999,
  "ymin": 4755999,
  "xmax": 664001,
  "ymax": 4781001,
  "spatialReference": {
   "wkid": 2150,
   "latestWkid": 2958
  }
 },
 "initialExtent": {
  "xmin": 646999,
  "ymin": 4755999,
  "xmax": 664001,
  "ymax": 4781001,
  "spatialReference": {
   "wkid": 2150,
   "latestWkid": 2958
  }
 },
 "fullExtent": {
  "xmin": 646999,
  "ymin": 4755999,
  "xmax": 664001,
  "ymax": 4781001,
  "spatialReference": {
   "wkid": 2150,
   "latestWkid": 2958
  }
 },
 "sortableFields": "",
 "bandCount": 3,
 "pixelType": "U8",
 "minValues": [
  0,
  0,
  0
 ],
 "maxValues": [
  255,
  255,
  255
 ],
 "meanValues": [
  105.66794268345636,
  99.97337520518091,
  95.06944348379737
 ],
 "stdvValues": [
  50.78011195831676,
  47.257497744084475,
  45.26992216878437
 ],
 "hasMultidimensions": false,
 "pixelSizeX": 0.1,
 "pixelSizeY": 0.1,
 "meanPixelSize": 0.1,
 "datasetFormat": "SDR",
 "uncompressedSize": 127525201200,
 "blockWidth": 128,
 "blockHeight": 128,
 "compressionType": "JPEG",
 "bandNames": [
  "Band_1",
  "Band_2",
  "Band_3"
 ],
 "allowCopy": true,
 "allowAnalysis": true,
 "itemAccess": false,
 "inspectionCapabilities": "",
 "minPixelSize": 0,
 "maxPixelSize": 0,
 "copyrightText": "",
 "serviceDataType": "esriImageServiceDataTypeRGB",
 "serviceSourceType": "esriImageServiceSourceTypeDataset",
 "objectIdField": "",
 "fields": [],
 "capabilities": "Image,Metadata,Mensuration",
 "defaultMosaicMethod": "Center",
 "allowedMosaicMethods": "",
 "sortField": "",
 "sortValue": null,
 "sortAscending": true,
 "mosaicOperator": "First",
 "defaultCompressionQuality": 75,
 "defaultResamplingMethod": "Bilinear",
 "maxImageHeight": 4100,
 "maxImageWidth": 15000,
 "allowRasterFunction": true,
 "rasterFunctionInfos": [
  {
   "name": "None",
   "description": "",
   "help": ""
  }
 ],
 "rasterTypeInfos": [
  {
   "name": "Raster Dataset",
   "description": "Supports all ArcGIS Raster Datasets",
   "help": ""
  }
 ],
 "mensurationCapabilities": "Basic",
 "hasHistograms": true,
 "hasColormap": false,
 "hasRasterAttributeTable": false,
 "minScale": 0,
 "maxScale": 0,
 "exportTilesAllowed": false,
 "supportsStatistics": false,
 "supportsAdvancedQueries": false,
 "editFieldsInfo": null,
 "ownershipBasedAccessControlForRasters": null,
 "allowComputeTiePoints": false,
 "useStandardizedQueries": true,
 "advancedQueryCapabilities": {
  "useStandardizedQueries": true,
  "supportsStatistics": false,
  "supportsOrderBy": false,
  "supportsDistinct": false,
  "supportsPagination": false
 },
 "spatialReference": {
  "wkid": 2150,
  "latestWkid": 2958
 }
}
