{
 "currentVersion": 11.2,
 "serviceDescription": "Public/NF_Ortho_2026_ImageService",
 "name": "Public/NF_Ortho_2026_ImageService",
 "description": "",
 "extent": {
  "xmin": 646999.0107905744,
  "ymin": 4755998.962464184,
  "xmax": 664001.010727237,
  "ymax": 4781000.962371044,
  "spatialReference": {
   "wkid": 2150,
   "latestWkid": 2958
  }
 },
 "initialExtent": {
  "xmin": 646999.0107905744,
  "ymin": 4755998.962464184,
  "xmax": 664001.010727237,
  "ymax": 4781000.962371044,
  "spatialReference": {
   "wkid": 2150,
   "latestWkid": 2958
  }
 },
 "fullExtent": {
  "xmin": 646999.0107905744,
  "ymin": 4755998.962464184,
  "xmax": 664001.010727237,
  "ymax": 4781000.962371044,
  "spatialReference": {
   "wkid": 2150,
   "latestWkid": 2958
  }
 },
 "sortableFields": "",
 "bandCount": 3,
 "pixelType": "U8",
 "minValues": [
  5,
  8,
  0
 ],
 "maxValues": [
  255,
  255,
  255
 ],
 "meanValues": [
  118.55009665860311,
  111.79234512580346,
  103.22829150817952
 ],
 "stdvValues": [
  34.82067926458486,
  30.150416069743912,
  28.111543896559773
 ],
 "hasMultidimensions": false,
 "pixelSizeX": 0.09999999962747097,
 "pixelSizeY": 0.09999999962747097,
 "meanPixelSize": 0.09999999962747097,
 "datasetFormat": "SDR",
 "uncompressedSize": 127525201200,
 "blockWidth": 128,
 "blockHeight": 128,
 "compressionType": "LZ77",
 "bandNames": [
  "Band_1",
  "Band_2",
  "Band_3"
 ],
 "allowCopy": true,
 "allowAnalysis": true,
 "itemAccess": false,
 "inspectionCapabilities": "",
 "minPixelSize": 0,
 "maxPixelSize": 0,
 "copyrightText": "",
 "serviceDataType": "esriImageServiceDataTypeRGB",
 "serviceSourceType": "esriImageServiceSourceTypeDataset",
 "objectIdField": "",
 "fields": [],
 "capabilities": "Image,Metadata,Mensuration",
 "defaultMosaicMethod": "Center",
 "allowedMosaicMethods": "",
 "sortField": "",
 "sortValue": null,
 "sortAscending": true,
 "mosaicOperator": "First",
 "defaultCompressionQuality": 75,
 "defaultResamplingMethod": "Bilinear",
 "maxImageHeight": 4100,
 "maxImageWidth": 15000,
 "allowRasterFunction": true,
 "rasterFunctionInfos": [
  {
   "name": "None",
   "description": "",
   "help": ""
  }
 ],
 "rasterTypeInfos": [
  {
   "name": "Raster Dataset",
   "description": "Supports all ArcGIS Raster Datasets",
   "help": ""
  }
 ],
 "mensurationCapabilities": "Basic",
 "hasHistograms": true,
 "hasColormap": false,
 "hasRasterAttributeTable": false,
 "minScale": 0,
 "maxScale": 0,
 "exportTilesAllowed": false,
 "supportsStatistics": false,
 "supportsAdvancedQueries": false,
 "editFieldsInfo": null,
 "ownershipBasedAccessControlForRasters": null,
 "allowComputeTiePoints": false,
 "useStandardizedQueries": true,
 "advancedQueryCapabilities": {
  "useStandardizedQueries": true,
  "supportsStatistics": false,
  "supportsOrderBy": false,
  "supportsDistinct": false,
  "supportsPagination": false
 },
 "spatialReference": {
  "wkid": 2150,
  "latestWkid": 2958
 }
}
