View In:
ArcGIS JavaScript
ArcGIS Online Map Viewer
ArcGIS Earth
Service Description: Public/NF_Ortho_2006_ImageService
Name: Public/NF_Ortho_2006_ImageService
Description:
Single Fused Map Cache: false
Extent:
XMin: 647998.9768868372
YMin: 4756998.756502346
XMax: 663000.776883344
YMax: 4780000.856416657
Spatial Reference: 2150
(2958)
LatestVCSWkid(0)
Initial Extent:
XMin: 647998.9768868372
YMin: 4756998.756502346
XMax: 663000.776883344
YMax: 4780000.856416657
Spatial Reference: 2150
(2958)
LatestVCSWkid(0)
Full Extent:
XMin: 647998.9768868372
YMin: 4756998.756502346
XMax: 663000.776883344
YMax: 4780000.856416657
Spatial Reference: 2150
(2958)
LatestVCSWkid(0)
Pixel Size X: 0.09999999997671538
Pixel Size Y: 0.09999999962747097
Band Count: 3
Pixel Type: U8
RasterFunction Infos: {"rasterFunctionInfos": [{
"name": "None",
"description": "",
"help": ""
}]}
Mensuration Capabilities: Basic
Inspection Capabilities:
Has Histograms: true
Has Colormap: false
Has Multi Dimensions : false
Rendering Rule:
Min Scale: 0
Max Scale: 0
Copyright Text:
Service Data Type: esriImageServiceDataTypeRGB
Min Values: 0, 0, 0
Max Values: 255, 255, 255
Mean Values: 145.30737627306962, 143.7427253691229, 138.61342318577573
Standard Deviation Values: 44.121119396156985, 41.717697783301446, 41.79190813310516
Object ID Field:
Fields:
None
Default Mosaic Method: Center
Allowed Mosaic Methods:
SortField:
SortValue: null
Mosaic Operator: First
Default Compression Quality: 75
Default Resampling Method: Bilinear
Max Record Count: null
Max Image Height: 4100
Max Image Width: 15000
Max Download Image Count: null
Max Mosaic Image Count: null
Allow Raster Function: true
Allow Copy: true
Allow Analysis: true
Allow Compute TiePoints: false
Supports Statistics: false
Supports Advanced Queries: false
Use StandardizedQueries: true
Raster Type Infos:
Name: Raster Dataset
Description: Supports all ArcGIS Raster Datasets
Help:
Has Raster Attribute Table: false
Edit Fields Info: null
Ownership Based AccessControl For Rasters: null
Child Resources:
Info
Histograms
Statistics
Key Properties
Legend
Raster Function Infos
Supported Operations:
Export Image
Identify
Measure
Compute Histograms
Compute Statistics Histograms
Get Samples
Compute Class Statistics
Query Boundary
Compute Pixel Location
Compute Angles
Validate
Project