View In:
ArcGIS JavaScript
ArcGIS Online Map Viewer
ArcGIS Earth
Service Description: 10 cm colour digital ortho-imagery acquired in spring of 2013 by Niagara Region for organizations participating in the 2013 Niagara Ortho-Photography project.
Name: Public/NF_Ortho_2013_ImageService
Description: 10 cm colour digital ortho-imagery acquired in spring of 2013 by Niagara Region for organizations participating in the 2013 Niagara Ortho-Photography project.
Single Fused Map Cache: false
Extent:
XMin: 648000.2745000004
YMin: 4756999.0609856825
XMax: 663000.2744965077
YMax: 4779999.060900001
Spatial Reference: 2150
(2958)
LatestVCSWkid(0)
Initial Extent:
XMin: 648000.2745000004
YMin: 4756999.0609856825
XMax: 663000.2744965077
YMax: 4779999.060900001
Spatial Reference: 2150
(2958)
LatestVCSWkid(0)
Full Extent:
XMin: 648000.2745000004
YMin: 4756999.0609856825
XMax: 663000.2744965077
YMax: 4779999.060900001
Spatial Reference: 2150
(2958)
LatestVCSWkid(0)
Pixel Size X: 0.09999999997671538
Pixel Size Y: 0.09999999962747097
Band Count: 3
Pixel Type: U8
RasterFunction Infos: {"rasterFunctionInfos": [{
"name": "None",
"description": "",
"help": ""
}]}
Mensuration Capabilities: Basic
Inspection Capabilities:
Has Histograms: true
Has Colormap: false
Has Multi Dimensions : false
Rendering Rule:
Min Scale: 0
Max Scale: 0
Copyright Text: Niagara Region
Service Data Type: esriImageServiceDataTypeRGB
Min Values: 0, 0, 0
Max Values: 255, 255, 255
Mean Values: 111.25444423655836, 110.44698483703921, 105.14461125734499
Standard Deviation Values: 33.8909513029169, 32.46690915586594, 32.48975349001025
Object ID Field:
Fields:
None
Default Mosaic Method: Center
Allowed Mosaic Methods:
SortField:
SortValue: null
Mosaic Operator: First
Default Compression Quality: 75
Default Resampling Method: Bilinear
Max Record Count: null
Max Image Height: 4100
Max Image Width: 15000
Max Download Image Count: null
Max Mosaic Image Count: null
Allow Raster Function: true
Allow Copy: true
Allow Analysis: true
Allow Compute TiePoints: false
Supports Statistics: false
Supports Advanced Queries: false
Use StandardizedQueries: true
Raster Type Infos:
Name: Raster Dataset
Description: Supports all ArcGIS Raster Datasets
Help:
Has Raster Attribute Table: false
Edit Fields Info: null
Ownership Based AccessControl For Rasters: null
Child Resources:
Info
Histograms
Statistics
Key Properties
Legend
Raster Function Infos
Supported Operations:
Export Image
Identify
Measure
Compute Histograms
Compute Statistics Histograms
Get Samples
Compute Class Statistics
Query Boundary
Compute Pixel Location
Compute Angles
Validate
Project