View In:
ArcGIS JavaScript
ArcGIS Online Map Viewer
ArcGIS Earth
Service Description: Public/NF_Ortho_2018_ImageService
Name: Public/NF_Ortho_2018_ImageService
Description:
Single Fused Map Cache: false
Extent:
XMin: 646999.0
YMin: 4755999.0
XMax: 664001.0
YMax: 4781001.0
Spatial Reference: 2150
(2958)
LatestVCSWkid(0)
Initial Extent:
XMin: 646999.0
YMin: 4755999.0
XMax: 664001.0
YMax: 4781001.0
Spatial Reference: 2150
(2958)
LatestVCSWkid(0)
Full Extent:
XMin: 646999.0
YMin: 4755999.0
XMax: 664001.0
YMax: 4781001.0
Spatial Reference: 2150
(2958)
LatestVCSWkid(0)
Pixel Size X: 0.1
Pixel Size Y: 0.1
Band Count: 3
Pixel Type: U8
RasterFunction Infos: {"rasterFunctionInfos": [{
"name": "None",
"description": "",
"help": ""
}]}
Mensuration Capabilities: Basic
Inspection Capabilities:
Has Histograms: true
Has Colormap: false
Has Multi Dimensions : false
Rendering Rule:
Min Scale: 0
Max Scale: 0
Copyright Text:
Service Data Type: esriImageServiceDataTypeRGB
Min Values: 0, 0, 0
Max Values: 255, 255, 255
Mean Values: 105.66794268345636, 99.97337520518091, 95.06944348379737
Standard Deviation Values: 50.78011195831676, 47.257497744084475, 45.26992216878437
Object ID Field:
Fields:
None
Default Mosaic Method: Center
Allowed Mosaic Methods:
SortField:
SortValue: null
Mosaic Operator: First
Default Compression Quality: 75
Default Resampling Method: Bilinear
Max Record Count: null
Max Image Height: 4100
Max Image Width: 15000
Max Download Image Count: null
Max Mosaic Image Count: null
Allow Raster Function: true
Allow Copy: true
Allow Analysis: true
Allow Compute TiePoints: false
Supports Statistics: false
Supports Advanced Queries: false
Use StandardizedQueries: true
Raster Type Infos:
Name: Raster Dataset
Description: Supports all ArcGIS Raster Datasets
Help:
Has Raster Attribute Table: false
Edit Fields Info: null
Ownership Based AccessControl For Rasters: null
Child Resources:
Info
Histograms
Statistics
Key Properties
Legend
Raster Function Infos
Supported Operations:
Export Image
Identify
Measure
Compute Histograms
Compute Statistics Histograms
Get Samples
Compute Class Statistics
Query Boundary
Compute Pixel Location
Compute Angles
Validate
Project